BEGIN:VCALENDAR
VERSION:2.0
PRODID:-//AudioTheme 1.6.3
BEGIN:VEVENT
UID:http://wp2015.ericbannan.com/?post_type=audiotheme_gig&#038;p=670
URL:https://wp2015.ericbannan.com/shows/bynum-mc-storytelling/
DTSTART;TZID=GMT:20190510T000000
SUMMARY:Bynum MC Storytelling
DESCRIPTION:I will be the MC for the Storytelling night at this legendary venue
LOCATION:Bynum Front Porch Storytelling
END:VEVENT
END:VCALENDAR