BEGIN:VCALENDAR
VERSION:2.0
PRODID:-//AudioTheme 1.6.3
BEGIN:VEVENT
UID:http://wp2015.ericbannan.com/?post_type=audiotheme_gig&#038;p=696
URL:https://wp2015.ericbannan.com/shows/bynum-story-telling/
DTSTART;TZID=GMT:20200208T000000
SUMMARY:Bynum Front Porch
DESCRIPTION:I am MC for a fabulous night of Storytelling featuring : Gretchen McNeely\, Linda Gorham\, Sherry Lovett and Donna Washington! 
LOCATION:Bynum General Store
END:VEVENT
END:VCALENDAR