BEGIN:VCALENDAR
VERSION:2.0
PRODID:-//AudioTheme 1.6.3
BEGIN:VEVENT
UID:http://wp2015.ericbannan.com/?post_type=audiotheme_gig&#038;p=722
URL:https://wp2015.ericbannan.com/shows/bynum-winter-music-1/
DTSTART;TZID=GMT:20200919T000000
SUMMARY:Bynum Winter Music 1
DESCRIPTION:Hosting The Bynum Winter Music Series with Grand Shores!
LOCATION:Bynum General Store
END:VEVENT
END:VCALENDAR