BEGIN:VCALENDAR
VERSION:2.0
PRODID:-//AudioTheme 1.6.3
BEGIN:VEVENT
UID:http://wp2015.ericbannan.com/?post_type=audiotheme_gig&#038;p=720
URL:https://wp2015.ericbannan.com/shows/bynum-winter-music-series/
DTSTART;TZID=GMT:20201017T000000
SUMMARY:Bynum Winter Music Series
DESCRIPTION:In The Round With Jonathan Byrd and Jess Kline!  Live Stream!
LOCATION:Bynum General Store
END:VEVENT
END:VCALENDAR