BEGIN:VCALENDAR
VERSION:2.0
PRODID:-//AudioTheme 1.6.3
BEGIN:VEVENT
UID:http://wp2015.ericbannan.com/?post_type=audiotheme_gig&#038;p=660
URL:https://wp2015.ericbannan.com/shows/c3huu-fathers-day-sermon/
DTSTART;TZID=GMT:20190616T000000
SUMMARY:C3HUU Fathers Day Sermon
DESCRIPTION:My Annual Fathers Day Sermon In Story and Song
LOCATION:Community Church of Chapel Hill U.U.
END:VEVENT
END:VCALENDAR