BEGIN:VCALENDAR
VERSION:2.0
PRODID:-//AudioTheme 1.6.3
BEGIN:VEVENT
UID:http://wp2015.ericbannan.com/?post_type=audiotheme_gig&#038;p=685
URL:https://wp2015.ericbannan.com/shows/c3huu-music-for-services/
DTSTART;TZID=GMT:20191027T000000
SUMMARY:C3HUU Music For Services
DESCRIPTION:Music For Services  9:30 and 11:15 I'll be leading a circle song!
LOCATION:Community Church of Chapel Hill U.U.
END:VEVENT
END:VCALENDAR