BEGIN:VCALENDAR
VERSION:2.0
PRODID:-//AudioTheme 1.6.3
BEGIN:VEVENT
UID:http://wp2015.ericbannan.com/?post_type=audiotheme_gig&#038;p=701
URL:https://wp2015.ericbannan.com/shows/c3huu-special-music-1-5-20/
DTSTART;TZID=GMT:20200105T000000
SUMMARY:C3HUU Special Music 1/5/20
DESCRIPTION:Music for Services at 9:30 and 11:15
LOCATION:Community Church of Chapel Hill U.U.
END:VEVENT
END:VCALENDAR