BEGIN:VCALENDAR
VERSION:2.0
PRODID:-//AudioTheme 1.6.3
BEGIN:VEVENT
UID:http://wp2015.ericbannan.com/?post_type=audiotheme_gig&#038;p=706
URL:https://wp2015.ericbannan.com/shows/circle-singing-march-2020/
DTSTART;TZID=GMT:20200312T000000
SUMMARY:Circle Singing March 2020
DESCRIPTION:Step Into Circle Singing Workshop. Come sing with me!  Circle singing draws on traditions of chant\, jazz\, gospel\, meditation and mindfulness to create one-of-a-kind choral improvisations in a mistake free zone. Accessible to beginners - may challenge experienced singers\,
LOCATION:Community Church of Chapel Hill UU
END:VEVENT
END:VCALENDAR