BEGIN:VCALENDAR
VERSION:2.0
PRODID:-//AudioTheme 1.6.3
BEGIN:VEVENT
UID:http://wp2015.ericbannan.com/?post_type=audiotheme_gig&#038;p=699
URL:https://wp2015.ericbannan.com/shows/feb-circle-sing/
DTSTART;TZID=GMT:20200213T000000
SUMMARY:Feb Circle Sing
DESCRIPTION:Step Into Circle Singing Workshop. Come sing with me!  Circle singing draws on traditions of chant\, jazz\, gospel\, meditation and mindfulness to create one-of-a-kind choral improvisations in a mistake free zone. Accessible to beginners - may challenge experienced singers\,
LOCATION:Community Church of Chapel Hill U.U.
END:VEVENT
END:VCALENDAR