BEGIN:VCALENDAR
VERSION:2.0
PRODID:-//AudioTheme 1.6.3
BEGIN:VEVENT
UID:http://wp2015.ericbannan.com/?post_type=audiotheme_gig&#038;p=698
URL:https://wp2015.ericbannan.com/shows/february-circle-singing/
DTSTART;TZID=GMT:20200222T000000
SUMMARY:February Circle Singing
DESCRIPTION:Co-Writer Confidential - Wyatt Easterling and Eric Bannan swap songs and stories about songs the have written together.
LOCATION:Joyful Jewell Pittsboro\, NC
END:VEVENT
END:VCALENDAR