BEGIN:VCALENDAR
VERSION:2.0
PRODID:-//AudioTheme 1.6.3
BEGIN:VEVENT
UID:http://wp2015.ericbannan.com/?post_type=audiotheme_gig&#038;p=657
URL:https://wp2015.ericbannan.com/shows/gig-657/
DTSTART;TZID=GMT:20190601T000000
SUMMARY:Joyful Jewell Pittsboro, NC
DESCRIPTION:Song Swap with Lea Kaufman !
LOCATION:Joyful Jewell Pittsboro\, NC
END:VEVENT
END:VCALENDAR