BEGIN:VCALENDAR
VERSION:2.0
PRODID:-//AudioTheme 1.6.3
BEGIN:VEVENT
UID:http://wp2015.ericbannan.com/?post_type=audiotheme_gig&#038;p=690
URL:https://wp2015.ericbannan.com/shows/gig-690/
DTSTART;TZID=GMT:20191208T000000
SUMMARY:UU Fellowship Lake Norman, NC
DESCRIPTION:Weavers and Threads - A Sermon In Story and Song
LOCATION:UU Fellowship Lake Norman\, NC
END:VEVENT
END:VCALENDAR