BEGIN:VCALENDAR
VERSION:2.0
PRODID:-//AudioTheme 1.6.3
BEGIN:VEVENT
UID:http://wp2015.ericbannan.com/?post_type=audiotheme_gig&#038;p=695
URL:https://wp2015.ericbannan.com/shows/gig-695/
DTSTART;TZID=GMT:20200126T000000
SUMMARY:UU Fellowship of Fayetteville, NC
DESCRIPTION:Seeing The Unseen - A Sermon In Story and Song - All are welcome
LOCATION:UU Fellowship of Fayetteville\, NC
END:VEVENT
END:VCALENDAR