BEGIN:VCALENDAR
VERSION:2.0
PRODID:-//AudioTheme 1.6.3
BEGIN:VEVENT
UID:http://wp2015.ericbannan.com/?post_type=audiotheme_gig&#038;p=707
URL:https://wp2015.ericbannan.com/shows/gig-707/
DTSTART;TZID=GMT:20200321T000000
SUMMARY:HVUUC Concert
DESCRIPTION:An evening of Story and Song
LOCATION:Holston Valley\, TN UU Church
END:VEVENT
END:VCALENDAR