BEGIN:VCALENDAR
VERSION:2.0
PRODID:-//AudioTheme 1.6.3
BEGIN:VEVENT
UID:http://wp2015.ericbannan.com/?post_type=audiotheme_gig&#038;p=718
URL:https://wp2015.ericbannan.com/shows/gig-718/
DTSTART;TZID=GMT:20200813T000000
SUMMARY:Wine Down Wednesday
DESCRIPTION:Wine Down Wednesday at La Vita Dolce in Southern Village  https://www.lavitadolcecafe.com/wine-down-wednesdays/
LOCATION:La Vita Dolce In Southern Village Chapel Hill\, NC
END:VEVENT
END:VCALENDAR