BEGIN:VCALENDAR
VERSION:2.0
PRODID:-//AudioTheme 1.6.3
BEGIN:VEVENT
UID:http://wp2015.ericbannan.com/?post_type=audiotheme_gig&#038;p=709
URL:https://wp2015.ericbannan.com/shows/holsten-valley-uu-tn/
DTSTART;TZID=GMT:20200322T000000
SUMMARY:Holsten Valley UU TN
DESCRIPTION:Sermon in Story And Song - Weavers and Threads
LOCATION:Holston Valley\, TN UU Church
END:VEVENT
END:VCALENDAR