BEGIN:VCALENDAR
VERSION:2.0
PRODID:-//AudioTheme 1.6.3
BEGIN:VEVENT
UID:http://wp2015.ericbannan.com/?post_type=audiotheme_gig&#038;p=682
URL:https://wp2015.ericbannan.com/shows/imbibe-with-tbh/
DTSTART;TZID=GMT:20191105T000000
SUMMARY:Imbibe with TBH
DESCRIPTION:The Blue Hallelujahs will perform - Dan Sommer\, Allison Murray-Nikkel and Me!
LOCATION:Imbibe in Chapel Hill
END:VEVENT
END:VCALENDAR