BEGIN:VCALENDAR
VERSION:2.0
PRODID:-//AudioTheme 1.6.3
BEGIN:VEVENT
UID:http://wp2015.ericbannan.com/?post_type=audiotheme_gig&#038;p=661
URL:https://wp2015.ericbannan.com/shows/joyful-jewell/
DTSTART;TZID=GMT:20190907T000000
SUMMARY:Joyful Jewell
DESCRIPTION:In the round with Wes Collins and Nevilles Quarter
LOCATION:The Joyful Jewell in Pittsboro\, NC
END:VEVENT
END:VCALENDAR