BEGIN:VCALENDAR
VERSION:2.0
PRODID:-//AudioTheme 1.6.3
BEGIN:VEVENT
UID:http://wp2015.ericbannan.com/?post_type=audiotheme_gig&#038;p=673
URL:https://wp2015.ericbannan.com/shows/kraken-jbyrd-tribute-night/
DTSTART;TZID=GMT:20190911T000000
SUMMARY:The Kraken - JByrd Tribute Night
DESCRIPTION:Jonathan Byrd Tribute Night! I'll be the MC!
LOCATION:The Kraken
END:VEVENT
END:VCALENDAR