BEGIN:VCALENDAR
VERSION:2.0
PRODID:-//AudioTheme 1.6.3
BEGIN:VEVENT
UID:http://wp2015.ericbannan.com/?post_type=audiotheme_gig&#038;p=719
URL:https://wp2015.ericbannan.com/shows/kraken-with-j-byrd/
DTSTART;TZID=GMT:20200930T000000
SUMMARY:Kraken - With J Byrd
DESCRIPTION:Special Guest with Jonathan Byrd  Best Live Stream On The Net!
LOCATION:The Kraken
END:VEVENT
END:VCALENDAR