BEGIN:VCALENDAR
VERSION:2.0
PRODID:-//AudioTheme 1.6.3
BEGIN:VEVENT
UID:http://wp2015.ericbannan.com/?post_type=audiotheme_gig&#038;p=721
URL:https://wp2015.ericbannan.com/shows/la-vida-dolce/
DTSTART;TZID=GMT:20200819T000000
SUMMARY:La Vida Dolce
DESCRIPTION:An outdoor socially distant gig! My first live show in months!
LOCATION:La Vita Dolce In Southern Village Chapel Hill\, NC
END:VEVENT
END:VCALENDAR