BEGIN:VCALENDAR
VERSION:2.0
PRODID:-//AudioTheme 1.6.3
BEGIN:VEVENT
UID:http://wp2015.ericbannan.com/?post_type=audiotheme_gig&#038;p=668
URL:https://wp2015.ericbannan.com/shows/nq-songwriter-bazar-2/
DTSTART;TZID=GMT:20190609T000000
SUMMARY:NQ Songwriter Bazar 2
DESCRIPTION:Nevilles Quarter Songwriter Bazar! Not to be missed!
LOCATION:The PIT in Chapel Hill
END:VEVENT
END:VCALENDAR