BEGIN:VCALENDAR
VERSION:2.0
PRODID:-//AudioTheme 1.6.3
BEGIN:VEVENT
UID:http://wp2015.ericbannan.com/?post_type=audiotheme_gig&#038;p=674
URL:https://wp2015.ericbannan.com/shows/opening-for-paper-hand-puppet-show/
DTSTART;TZID=GMT:20190913T000000
SUMMARY:Opening For Paper Hand Puppet Show
DESCRIPTION:Opening For Paper Hand Puppet Intervention - with The Blue Hallelujahs!
LOCATION:Forest Theater - Chapel Hill\, NC
END:VEVENT
END:VCALENDAR