BEGIN:VCALENDAR
VERSION:2.0
PRODID:-//AudioTheme 1.6.3
BEGIN:VEVENT
UID:http://wp2015.ericbannan.com/?post_type=audiotheme_gig&#038;p=715
URL:https://wp2015.ericbannan.com/shows/southern-village-live-stream/
DTSTART;TZID=GMT:20200816T000000
SUMMARY:Southern Village Live Stream!
DESCRIPTION:Live Stream from Southern Village On The Green & PM  https://www.facebook.com/SouthernVillageMarket 
LOCATION:Southern Village On The Green
END:VEVENT
END:VCALENDAR