BEGIN:VCALENDAR
VERSION:2.0
PRODID:-//AudioTheme 1.6.3
BEGIN:VEVENT
UID:http://wp2015.ericbannan.com/?post_type=audiotheme_gig&#038;p=680
URL:https://wp2015.ericbannan.com/shows/step-into-circle-singing/
DTSTART;TZID=GMT:20191024T000000
SUMMARY:Step Into Circle Singing
DESCRIPTION:Step Into Circle Singing  I will be teaching the art and spiritual practice of Circle Singing which I learned from Bobby McFerrin this Summer  -  It's Free!
LOCATION:Community Church of Chapel Hill U.U.
END:VEVENT
END:VCALENDAR