BEGIN:VCALENDAR
VERSION:2.0
PRODID:-//AudioTheme 1.6.3
BEGIN:VEVENT
UID:http://wp2015.ericbannan.com/?post_type=audiotheme_gig&#038;p=665
URL:https://wp2015.ericbannan.com/shows/the-roost-at-fearrington-village-nc-2/
DTSTART;TZID=GMT:20190920T000000
SUMMARY:The Roost At Fearrington Village, NC
DESCRIPTION:Family and Dog Friendly Outdoor show!
LOCATION:The Roost At Fearrington Village
END:VEVENT
END:VCALENDAR