BEGIN:VCALENDAR
VERSION:2.0
PRODID:-//AudioTheme 1.6.3
BEGIN:VEVENT
UID:http://wp2015.ericbannan.com/?post_type=audiotheme_gig&#038;p=659
URL:https://wp2015.ericbannan.com/shows/the-roost-at-fearrington-village/
DTSTART;TZID=GMT:20190615T000000
SUMMARY:The Roost At Fearrington Village
DESCRIPTION:Family and Dog Friendly Outdoor Show
LOCATION:The Roost At Fearrington Village
END:VEVENT
END:VCALENDAR