BEGIN:VCALENDAR
VERSION:2.0
PRODID:-//AudioTheme 1.6.3
BEGIN:VEVENT
UID:http://wp2015.ericbannan.com/?post_type=audiotheme_gig&#038;p=686
URL:https://wp2015.ericbannan.com/shows/unity-of-the-triangle/
DTSTART;VALUE=DATE:20191117
SUMMARY:Unity OF The Triangle
DESCRIPTION:The Blue Hallelujahs will be singing at services
LOCATION:Unity Of The Triangle in Raleigh
END:VEVENT
END:VCALENDAR