BEGIN:VCALENDAR
VERSION:2.0
PRODID:-//AudioTheme 1.6.3
BEGIN:VEVENT
UID:http://wp2015.ericbannan.com/?post_type=audiotheme_gig&#038;p=663
URL:https://wp2015.ericbannan.com/shows/uu-fellowship-of-greenville-nc/
DTSTART;TZID=GMT:20190915T000000
SUMMARY:UU Fellowship Of Greenville NC
DESCRIPTION:Sermon In Story and Song
LOCATION:UU Fellowship of Greenville\, NC
END:VEVENT
END:VCALENDAR