BEGIN:VCALENDAR
VERSION:2.0
PRODID:-//AudioTheme 1.6.3
BEGIN:VEVENT
UID:http://wp2015.ericbannan.com/?post_type=audiotheme_gig&#038;p=688
URL:https://wp2015.ericbannan.com/shows/uu-sand-hills/
DTSTART;VALUE=DATE:20191124
SUMMARY:UU Sand Hills
DESCRIPTION:Weavers And Threads - A Sermon In Story and Song
LOCATION:UU Congregation Sandhills
END:VEVENT
END:VCALENDAR