BEGIN:VCALENDAR
VERSION:2.0
PRODID:-//AudioTheme 1.6.3
BEGIN:VEVENT
UID:http://wp2015.ericbannan.com/?post_type=audiotheme_gig&#038;p=712
URL:https://wp2015.ericbannan.com/shows/uu-sandhills/
DTSTART;TZID=GMT:20200531T000000
SUMMARY:UU SandHills
DESCRIPTION:Sermon In Story And Song: World Changing 101 - Challenging The Myth Of Powerlessness
LOCATION:UUC SandHills
END:VEVENT
END:VCALENDAR