BEGIN:VCALENDAR
VERSION:2.0
PRODID:-//AudioTheme 1.6.3
BEGIN:VEVENT
UID:http://wp2015.ericbannan.com/?post_type=audiotheme_gig&#038;p=671
URL:https://wp2015.ericbannan.com/shows/uucfnc-sermon-in-story-and-song/
DTSTART;TZID=GMT:20190922T000000
SUMMARY:UUCFNC Sermon in Story and Song
DESCRIPTION:Sermon In Story and Song
LOCATION:UU Fellowship of Fayetteville\, NC
END:VEVENT
END:VCALENDAR