BEGIN:VCALENDAR
VERSION:2.0
PRODID:-//AudioTheme 1.6.3
BEGIN:VEVENT
UID:http://wp2015.ericbannan.com/?post_type=audiotheme_gig&#038;p=702
URL:https://wp2015.ericbannan.com/shows/uucob/
DTSTART;TZID=GMT:20200112T000000
SUMMARY:UUCOB
DESCRIPTION:Weavers And Threads - A Sermon In Story And Song   Kitty Hawk\, NC
LOCATION:UUC Outer Banks
END:VEVENT
END:VCALENDAR