BEGIN:VCALENDAR
VERSION:2.0
PRODID:-//AudioTheme 1.6.3
BEGIN:VEVENT
UID:http://wp2015.ericbannan.com/?post_type=audiotheme_gig&#038;p=723
URL:https://wp2015.ericbannan.com/shows/uupf-raleigh-2/
DTSTART;TZID=GMT:20200920T000000
SUMMARY:UUPF Raleigh
DESCRIPTION:Sermon In Story And Song 
LOCATION:UU Peace Fellowship of Raleigh
END:VEVENT
END:VCALENDAR