BEGIN:VCALENDAR
VERSION:2.0
PRODID:-//AudioTheme 1.6.3
BEGIN:VEVENT
UID:http://wp2015.ericbannan.com/?post_type=audiotheme_gig&#038;p=705
URL:https://wp2015.ericbannan.com/shows/uusv-sermon-in-story-and-song/
DTSTART;TZID=GMT:20200301T000000
SUMMARY:UUSV Sermon In Story And Song
DESCRIPTION:Sermon In Story and Song - Why Do We Sing?
LOCATION:UU Congregation Swannanoa Valley
END:VEVENT
END:VCALENDAR